BEGIN:VCALENDAR
VERSION:2.0
PRODID:-//Dr. Karthik Ramanan - ECPv6.15.20//NONSGML v1.0//EN
CALSCALE:GREGORIAN
METHOD:PUBLISH
X-ORIGINAL-URL:https://www.drkarthikramanan.com
X-WR-CALDESC:Events for Dr. Karthik Ramanan
REFRESH-INTERVAL;VALUE=DURATION:PT1H
X-Robots-Tag:noindex
X-PUBLISHED-TTL:PT1H
BEGIN:VTIMEZONE
TZID:America/Phoenix
BEGIN:STANDARD
TZOFFSETFROM:-0700
TZOFFSETTO:-0700
TZNAME:MST
DTSTART:20240101T000000
END:STANDARD
END:VTIMEZONE
BEGIN:VEVENT
DTSTART;TZID=America/Phoenix:20260123T100000
DTEND;TZID=America/Phoenix:20260123T110000
DTSTAMP:20260425T081418
CREATED:20251113T204418Z
LAST-MODIFIED:20251125T165613Z
UID:2188-1769162400-1769166000@www.drkarthikramanan.com
SUMMARY:Nutrition and Its Impact on Your Emotional Health
DESCRIPTION:You can sustainably lose weight\, build confidence\, and conquer emotional eating. Join Dr. K’s December Mindset Mastery webinar\, where he explores his 3rd Pillar of Emotional Health: Nutrition. \nIn this webinar\, you will… \n\nLearn how nutrition affects your emotional health\nLearn about nutrition habits scientifically shown to reduce the risk of chronic disease and facilitate healthy weight loss while supporting your emotional health.\n\nWe get farther outside when we dig deep on the inside\, so that is where we begin. \nJoin us: Seats are limited\, and available after Dec 13. \nRegister now!
URL:https://www.drkarthikramanan.com/event/nutrition-and-its-impact-on-your-emotional-health/
END:VEVENT
BEGIN:VEVENT
DTSTART;TZID=America/Phoenix:20251212T100000
DTEND;TZID=America/Phoenix:20251212T110000
DTSTAMP:20260425T081418
CREATED:20251113T204043Z
LAST-MODIFIED:20251125T165506Z
UID:2186-1765533600-1765537200@www.drkarthikramanan.com
SUMMARY:Mindset Mastery for Entrepreneurs - December Webinar
DESCRIPTION:Your mindset is the foundation of your success. If you’ve been feeling stretched thin\, second-guessing yourself\, or stuck in survival mode\, this session is for you. You’ll walk away with tools to: \n\nQuiet the inner critic\nPrevent burnout\nStep into clarity and confidence as a leader\n\nJoin us: Seats are limited\, and available after Nov 22. \nReserve Your Spot Now
URL:https://www.drkarthikramanan.com/event/mindset-mastery-for-entrepreneurs-december-webinar/
END:VEVENT
BEGIN:VEVENT
DTSTART;TZID=America/Phoenix:20251121T120000
DTEND;TZID=America/Phoenix:20251121T124000
DTSTAMP:20260425T081418
CREATED:20251010T000540Z
LAST-MODIFIED:20251021T145527Z
UID:2111-1763726400-1763728800@www.drkarthikramanan.com
SUMMARY:Supporting Self Through the Holidays – Session 1: 12 – 12:40 pm ET
DESCRIPTION:The holidays can bring joy\, but they also bring stress\, overwhelm\, and sometimes loneliness. Join me to learn how to: \n\nSet healthy boundaries with family and work\nManage expectations (yours and others’)\nCreate space for rest and joy in the middle of the busyness\n\nJoin us: \nSeats are limited\, and available after October 23. \nReserve Your Spot Now
URL:https://www.drkarthikramanan.com/event/supporting-self-through-the-holidays-session-1-12-1240-pm-et/
END:VEVENT
BEGIN:VEVENT
DTSTART;TZID=America/Phoenix:20251023T130000
DTEND;TZID=America/Phoenix:20251023T134000
DTSTAMP:20260425T081418
CREATED:20251009T235834Z
LAST-MODIFIED:20251014T181422Z
UID:2105-1761224400-1761226800@www.drkarthikramanan.com
SUMMARY:Mindset Mastery for Entrepreneurs - Session 1: 1:00 – 1:40 pm ET
DESCRIPTION:Your mindset is the foundation of your success. If you’ve been feeling stretched thin\, second-guessing yourself\, or stuck in survival mode\, this session is for you. You’ll walk away with tools to: \n\nQuiet the inner critic\nPrevent burnout\nStep into clarity and confidence as a leader\n\nReserve Your Spot Now
URL:https://www.drkarthikramanan.com/event/mindset-mastery-for-entrepreneurs-session-1-1pm/
END:VEVENT
END:VCALENDAR